BEGIN:VCALENDAR
VERSION:2.0
PRODID:-//Archeoclub d&#039;Italia - ECPv5.14.0.1//NONSGML v1.0//EN
CALSCALE:GREGORIAN
METHOD:PUBLISH
X-WR-CALNAME:Archeoclub d&#039;Italia
X-ORIGINAL-URL:http://www.archeoclubitalia.org
X-WR-CALDESC:Eventi per Archeoclub d&#039;Italia
REFRESH-INTERVAL;VALUE=DURATION:PT1H
X-Robots-Tag:noindex
X-PUBLISHED-TTL:PT1H
BEGIN:VTIMEZONE
TZID:Europe/Rome
BEGIN:DAYLIGHT
TZOFFSETFROM:+0100
TZOFFSETTO:+0200
TZNAME:CEST
DTSTART:20260329T010000
END:DAYLIGHT
BEGIN:STANDARD
TZOFFSETFROM:+0200
TZOFFSETTO:+0100
TZNAME:CET
DTSTART:20261025T010000
END:STANDARD
END:VTIMEZONE
BEGIN:VEVENT
DTSTART;TZID=Europe/Rome:20260422T093000
DTEND;TZID=Europe/Rome:20260422T093000
DTSTAMP:20260421T170021
CREATED:20260420T234350Z
LAST-MODIFIED:20260420T234710Z
UID:23804-1776850200-1776850200@www.archeoclubitalia.org
SUMMARY:Karl Mayer-Eymar e il Messiniano: la Scoperta e il Significato Geologico
DESCRIPTION:SCARICA LA LOCANDINA
URL:http://www.archeoclubitalia.org/event/karl-mayer-eymar-e-il-messiniano-la-scoperta-e-il-significato-geologico/
ATTACH;FMTTYPE=image/png:http://www.archeoclubitalia.org/wp-content/uploads/2026/04/Immagine-2026-04-21-014042.png
END:VEVENT
BEGIN:VEVENT
DTSTART;TZID=Europe/Rome:20260422T170000
DTEND;TZID=Europe/Rome:20260422T170000
DTSTAMP:20260421T170021
CREATED:20260417T183914Z
LAST-MODIFIED:20260417T184102Z
UID:23732-1776877200-1776877200@www.archeoclubitalia.org
SUMMARY:Il Tempio di San Francesco all'Immacolata. Un Monumento fra Storia e Leggenda
DESCRIPTION:SCARICA LA LOCANDINA
URL:http://www.archeoclubitalia.org/event/il-tempio-di-san-francesco-allimmacolata-un-monumento-fra-storia-e-leggenda/
ATTACH;FMTTYPE=image/png:http://www.archeoclubitalia.org/wp-content/uploads/2026/04/tempio.png
END:VEVENT
BEGIN:VEVENT
DTSTART;TZID=Europe/Rome:20260423T180000
DTEND;TZID=Europe/Rome:20260423T180000
DTSTAMP:20260421T170021
CREATED:20260420T235854Z
LAST-MODIFIED:20260421T000023Z
UID:23826-1776967200-1776967200@www.archeoclubitalia.org
SUMMARY:Pizzoli e L'Aquila nel Primo Cinquecento. Incontro con Alberto Gioia
DESCRIPTION:SCARICA LA LOCANDINA
URL:http://www.archeoclubitalia.org/event/23826/
ATTACH;FMTTYPE=image/png:http://www.archeoclubitalia.org/wp-content/uploads/2026/04/gioia.png
END:VEVENT
BEGIN:VEVENT
DTSTART;TZID=Europe/Rome:20260424T180000
DTEND;TZID=Europe/Rome:20260424T180000
DTSTAMP:20260421T170021
CREATED:20260413T091254Z
LAST-MODIFIED:20260413T091313Z
UID:23605-1777053600-1777053600@www.archeoclubitalia.org
SUMMARY:Nuceria\, il Progresso degli Studi. Vecchi Scavi Nuovi Studi: la Provenienza Nolana dello Stamnos Dionisiaco al Museo Nazionale di Napoli
DESCRIPTION:SCARICA LA LOCANDINA
URL:http://www.archeoclubitalia.org/event/nuceria-il-progresso-degli-studi-vecchi-scavi-nuovi-studi-la-provenienza-nolana-dello-stamnos-dionisiaco-al-museo-nazionale-di-napoli/
ATTACH;FMTTYPE=image/png:http://www.archeoclubitalia.org/wp-content/uploads/2026/04/nucera-2.png
END:VEVENT
BEGIN:VEVENT
DTSTART;TZID=Europe/Rome:20260425T000000
DTEND;TZID=Europe/Rome:20260425T235959
DTSTAMP:20260421T170021
CREATED:20260420T234803Z
LAST-MODIFIED:20260420T235441Z
UID:23808-1777075200-1777161599@www.archeoclubitalia.org
SUMMARY:25 Aprile 2026 Festa della Liberazione
DESCRIPTION:SCARICA LA LOCANDINA
URL:http://www.archeoclubitalia.org/event/25-aprile-2026-festa-della-liberazione/
ATTACH;FMTTYPE=image/png:http://www.archeoclubitalia.org/wp-content/uploads/2026/04/25-aprile.png
END:VEVENT
BEGIN:VEVENT
DTSTART;TZID=Europe/Rome:20260426T180000
DTEND;TZID=Europe/Rome:20260426T180000
DTSTAMP:20260421T170021
CREATED:20260420T235420Z
LAST-MODIFIED:20260420T235515Z
UID:23820-1777226400-1777226400@www.archeoclubitalia.org
SUMMARY:Quando le Montagne si Fecero Castelli: l'Incastellamento nell'Appennino Abruzzese
DESCRIPTION:SCARICA LA LOCANDINA
URL:http://www.archeoclubitalia.org/event/quando-le-montagne-si-fecero-castelli-lincastellamento-nellappennino-abruzzese/
ATTACH;FMTTYPE=image/png:http://www.archeoclubitalia.org/wp-content/uploads/2026/04/aquila.png
END:VEVENT
BEGIN:VEVENT
DTSTART;TZID=Europe/Rome:20260430T183000
DTEND;TZID=Europe/Rome:20260430T183000
DTSTAMP:20260421T170021
CREATED:20260413T091456Z
LAST-MODIFIED:20260413T092149Z
UID:23607-1777573800-1777573800@www.archeoclubitalia.org
SUMMARY:Nuceria\, il Progresso degli Studi. Prisco e le Origini del Cristianesimo a Nuceria
DESCRIPTION:SCARICA LA LOCANDINA
URL:http://www.archeoclubitalia.org/event/nuceria-il-progresso-degli-studi-prisco-e-le-origini-del-cristianesimo-a-nuceria/
ATTACH;FMTTYPE=image/png:http://www.archeoclubitalia.org/wp-content/uploads/2026/04/nucera-3.png
END:VEVENT
BEGIN:VEVENT
DTSTART;TZID=Europe/Rome:20260430T183000
DTEND;TZID=Europe/Rome:20260430T183000
DTSTAMP:20260421T170021
CREATED:20260413T092637Z
LAST-MODIFIED:20260413T092640Z
UID:23609-1777573800-1777573800@www.archeoclubitalia.org
SUMMARY:Nuceria\, il Progresso degli Studi. Prisco e le Origini del Cristianesimo a Nuceria
DESCRIPTION:SCARICA LA LOCANDINA
URL:http://www.archeoclubitalia.org/event/nuceria-il-progresso-degli-studi-prisco-e-le-origini-del-cristianesimo-a-nuceria-2/
ATTACH;FMTTYPE=image/png:http://www.archeoclubitalia.org/wp-content/uploads/2026/04/nucera-3.png
END:VEVENT
BEGIN:VEVENT
DTSTART;TZID=Europe/Rome:20260605T183000
DTEND;TZID=Europe/Rome:20260605T183000
DTSTAMP:20260421T170021
CREATED:20260413T092907Z
LAST-MODIFIED:20260413T092925Z
UID:23611-1780684200-1780684200@www.archeoclubitalia.org
SUMMARY:Nuceria\, il Progresso degli Studi. "De Civitate Antica que Fuit Nucerina" Ricerche e Spunti per la Realizzazione della Carta Archeologica Comunale di Nocera Superiore
DESCRIPTION:SCARICA LA LOCANDINA
URL:http://www.archeoclubitalia.org/event/nuceria-il-progresso-degli-studi-de-civitate-antica-que-fuit-nucerina-ricerche-e-spunti-per-la-realizzazione-della-carta-archeologica-comunale-di-nocera-superiore/
ATTACH;FMTTYPE=image/png:http://www.archeoclubitalia.org/wp-content/uploads/2026/04/nucera-4.png
END:VEVENT
END:VCALENDAR