BEGIN:VCALENDAR
VERSION:2.0
PRODID:-//Archeoclub d&#039;Italia - ECPv5.14.0.1//NONSGML v1.0//EN
CALSCALE:GREGORIAN
METHOD:PUBLISH
X-WR-CALNAME:Archeoclub d&#039;Italia
X-ORIGINAL-URL:http://www.archeoclubitalia.org
X-WR-CALDESC:Eventi per Archeoclub d&#039;Italia
REFRESH-INTERVAL;VALUE=DURATION:PT1H
X-Robots-Tag:noindex
X-PUBLISHED-TTL:PT1H
BEGIN:VTIMEZONE
TZID:Europe/Rome
BEGIN:DAYLIGHT
TZOFFSETFROM:+0100
TZOFFSETTO:+0200
TZNAME:CEST
DTSTART:20230326T010000
END:DAYLIGHT
BEGIN:STANDARD
TZOFFSETFROM:+0200
TZOFFSETTO:+0100
TZNAME:CET
DTSTART:20231029T010000
END:STANDARD
END:VTIMEZONE
BEGIN:VEVENT
DTSTART;TZID=Europe/Rome:20230903T193000
DTEND;TZID=Europe/Rome:20230903T193000
DTSTAMP:20260419T165703
CREATED:20230830T182105Z
LAST-MODIFIED:20230830T182128Z
UID:10564-1693769400-1693769400@www.archeoclubitalia.org
SUMMARY:Apericena e Concerto di Marco e Lucia Santini a Filottrano
DESCRIPTION:SCARICA LA LOCANDINA
URL:http://www.archeoclubitalia.org/event/apericena-e-concerto-di-marco-e-lucia-santini-a-filottrano/
ATTACH;FMTTYPE=image/jpeg:http://www.archeoclubitalia.org/wp-content/uploads/2023/08/concerto.jpg
END:VEVENT
BEGIN:VEVENT
DTSTART;TZID=Europe/Rome:20230903T193000
DTEND;TZID=Europe/Rome:20230903T193000
DTSTAMP:20260419T165703
CREATED:20230830T182655Z
LAST-MODIFIED:20230830T184528Z
UID:10569-1693769400-1693769400@www.archeoclubitalia.org
SUMMARY:Omaggio a Giacomo Costantini Beltrami a Filottrano
DESCRIPTION:SCARICA LA LOCANDINA\n\n\n\n\n\n\nBicentenario della scoperta delle sorgenti del Mississippi \n\n\n\n3 Settembre 2023  \n\n\n\nore 17\,00 – Convegno a Cura di Alvise Manni \n\n\n\nore 19.30 – Apericena \n\n\n\nore 20.30 – Concerto di Marco e Lucia Santini \n\n\n\n16 Settembre 2023 \n\n\n\nVisita Guidata in Villa Spada Lavinj \n\n\n\nOttobre 2023 \n\n\n\nVisita alla città di Bergamo in occasione dell’apertura della mostra dedicata a Giacomo Costantini Beltrami
URL:http://www.archeoclubitalia.org/event/omaggio-a-giacomo-costantini-beltrami-a-filottrano/
ATTACH;FMTTYPE=image/jpeg:http://www.archeoclubitalia.org/wp-content/uploads/2023/08/omaggio.jpg
END:VEVENT
BEGIN:VEVENT
DTSTART;TZID=Europe/Rome:20230903T210000
DTEND;TZID=Europe/Rome:20230903T210000
DTSTAMP:20260419T165703
CREATED:20230510T201401Z
LAST-MODIFIED:20230510T201403Z
UID:9094-1693774800-1693774800@www.archeoclubitalia.org
SUMMARY:Note tra le Navate\, Brani Musicali dal XV al XIX Secolo
DESCRIPTION:SCARICA LA LOCANDINA\n\n\n\n\n\n\nMassa Lubrense – “Note tra le navate”: strumenti antichi per narrare la bellezza di un territorio e la ricchezza delle sue chiese. \n\n\n\nDa maggio a settembre 2023\, cinque concerti di musica antica risuoneranno incastonati in alcune delle più belle chiese del territorio. Il comune simbolo della Terra delle Sirene sarà teatro dell’interessante progetto “Note tra le navate”\, un’iniziativa musicale e di conoscenza del patrimonio artistico del territorio promossa dall’Associazione culturale “Artetiempo”\, dalla sede lubrense dell’Archeoclub d’Italia e realizzata grazie al contributo dell’Amministrazione Comunale di Massa Lubrense\, che l’ha inserita nel cartellone della rassegna “Omaggio alla bellezza” 2023\, promossa dall’Assessorato al Turismo\, nella persona del vicesindaco\, avv. Giovanna Staiano.\n«Si tratta di una serie di appuntamenti – ha detto il presidente di Artetiempo\, M° Teresa Coccurullo – che intende accompagnare il pubblico in un ideale viaggio nel tempo\, guidati dalla Musica\, attraverso un percorso sonoro che parte dal ‘400 fino a giungere al 19° secolo». Il programma musicale\, infatti\, prevede una selezione cronologica di musiche attinte ai principali generi di ogni periodo storico\, attentamente selezionate dal repertorio vocale e strumentale maggiormente rappresentativo e abilmente orchestrate per l’ensemble\, dal M° Antonio Saturno.\nLe esecuzioni musicali sono affidate a Teresa Coccurullo al flauto traverso\, Antonino Persico e Salvatore Cangiano ai clarinetti in si b\, Luisa Esposito Gugg alla tastiera e Giuseppe Amura alla voce e alle percussioni etniche. Ad intrecciarsi con gli interpreti storici del gruppo New Wind Ensemble (nucleo musicale dell’Associazione Artetiempo)\, sarà interessante ascoltare la musicalità rinascimentale e barocca espressa dalla voce del tenore Tommaso Castello\, e dai musicisti Antonio Saturno e Salvatore Esposito Ferraioli\, rispettivamente impegnati con chitarra barocca e tiorba\, due strumenti antichi dal grande fascino e da un suono particolare che immediatamente riconduce alle atmosfere dei secoli passati.
URL:http://www.archeoclubitalia.org/event/note-tra-le-navate-brani-musicali-dal-xv-al-xix-secolo-5/
ATTACH;FMTTYPE=image/jpeg:http://www.archeoclubitalia.org/wp-content/uploads/2023/05/note-navate.jpg
END:VEVENT
END:VCALENDAR