BEGIN:VCALENDAR
VERSION:2.0
PRODID:-//Archeoclub d&#039;Italia - ECPv5.14.0.1//NONSGML v1.0//EN
CALSCALE:GREGORIAN
METHOD:PUBLISH
X-WR-CALNAME:Archeoclub d&#039;Italia
X-ORIGINAL-URL:http://www.archeoclubitalia.org
X-WR-CALDESC:Eventi per Archeoclub d&#039;Italia
REFRESH-INTERVAL;VALUE=DURATION:PT1H
X-Robots-Tag:noindex
X-PUBLISHED-TTL:PT1H
BEGIN:VTIMEZONE
TZID:Europe/Rome
BEGIN:DAYLIGHT
TZOFFSETFROM:+0100
TZOFFSETTO:+0200
TZNAME:CEST
DTSTART:20230326T010000
END:DAYLIGHT
BEGIN:STANDARD
TZOFFSETFROM:+0200
TZOFFSETTO:+0100
TZNAME:CET
DTSTART:20231029T010000
END:STANDARD
END:VTIMEZONE
BEGIN:VEVENT
DTSTART;TZID=Europe/Rome:20230806T000000
DTEND;TZID=Europe/Rome:20230827T235959
DTSTAMP:20260419T165530
CREATED:20230807T183026Z
LAST-MODIFIED:20230807T183149Z
UID:10291-1691280000-1693180799@www.archeoclubitalia.org
SUMMARY:Erbe Spontanee Medicinali a Ripatransone
DESCRIPTION:SCARICA LA LOCANDINA
URL:http://www.archeoclubitalia.org/event/erbe-spontanee-medicinali-a-ripatransone/
ATTACH;FMTTYPE=image/jpeg:http://www.archeoclubitalia.org/wp-content/uploads/2023/08/erbe-spontanee.jpg
END:VEVENT
BEGIN:VEVENT
DTSTART;TZID=Europe/Rome:20230820T180000
DTEND;TZID=Europe/Rome:20230820T180000
DTSTAMP:20260419T165530
CREATED:20230819T133800Z
LAST-MODIFIED:20230819T133959Z
UID:10465-1692554400-1692554400@www.archeoclubitalia.org
SUMMARY:Kalfaracconta\, Rassegna Letteraria alla Ricerca dell'Identità Territoriale
DESCRIPTION:SCARICA LA LOCANDINA\n\n\n\n\n\n\nV Kalfaracconta\,  “I territori tra penna e sguardi”  \nAutori jonici si confronteranno su come raccontare il territorio\nAvrà luogo domenica 20 agosto la V edizione di Kalfaracconta\, la rassegna let-teraria “alla ricerca dell’identità territoriale”\, che da anni approfondisce aspetti della riviera jonica attraverso la voce dei suoi autori.\nIl tema dell’edizione 2023\, scelto da Archeoclub e Comune\, che organizzano in siner-gia\, è “I territori tra penna e sguardi”. Gli autori invitati saranno chiamati a confron-tarsi su come il territorio jonico si presti ad essere narrato attraverso le varie modali-tà espressive. \nSi inizierà con l’inaugurazione di una particolare mostra di “foto su tela” realizzata dal giornalista Saro Laganà\, dedicata a Taormina. La mostra verrà allestita nei locali della Nuova Biblioteca Comunale\, dove si tiene Kalfaracconta\, e potrà essere visitata fino al 27 agosto\, con possibilità di contattare l’autore delle opere.\nDopo i saluti istituzionali\, il presidente di Archeoclub Area Jonica\, Filippo Brianni\, in-trodurrà i lavori con uno schizzo sulla visione di Carmelo Duro dell’Alta Val d’Agrò\, nell’ambito del progetto itinerante “Otto borghi un territorio”\, che Archeoclub conduce da anni per ricordare l’opera dello scrittore alessese.\nLa giornalista Francesca Gullotta dialogherà poi con Milena Privitera (autrice di “Stra-niere a Taormina”\, Algra editore) su “Taormina\, la perla e le sue straniere”.\nDi “Storia e territori” parleranno invece gli storici Salvatore Mosca e Carlo Gregorio\, quest’ultimo di recente autore del testo di ricerca storica\, “Dalla torre di Roccalumera alle torri di S. Teresa di Riva”\, Edas editore.\nLa riviera è stata spesso raccontata attraverso toni di “magia onirica” e di questo ne parleranno l’assessore alla cultura Nunziella Mazzullo con Enrico Scandurra\, che ha scritto per Algra “La misteriosa fine del professore Alberto Mazzaglia”.\nDi territori raccontati attraverso la poesia parleranno due poeti\, Mariapia Crisafulli ed Enrico De Lea\, che per Seri Editore ha di recente scritto la raccolta “Giardini di Occi-dente”.\nChiuderà un dialogo sui “territori di ritorni”\, con Angelo Vecchio\, autore di “Una gio-vane coppia”\, Leima Editore.
URL:http://www.archeoclubitalia.org/event/kalfaracconta-rassegna-letteraria-alla-ricerca-dellidentita-territoriale/
ATTACH;FMTTYPE=image/jpeg:http://www.archeoclubitalia.org/wp-content/uploads/2023/08/kalfa.jpg
END:VEVENT
BEGIN:VEVENT
DTSTART;TZID=Europe/Rome:20230820T184500
DTEND;TZID=Europe/Rome:20230820T184500
DTSTAMP:20260419T165530
CREATED:20230730T115639Z
LAST-MODIFIED:20230730T115641Z
UID:10093-1692557100-1692557100@www.archeoclubitalia.org
SUMMARY:"Il Centro storico Alto. La Città Medievale. La Chiesa Cattedrale il suo Episcopio" - Conoscere i Beni Culturali a Terracina
DESCRIPTION:SCARICA LA LOCANDINA\n\n\n\n\n\n\nLa Sede di Terracina dell’Archeoclub d’Italia\, in collaborazione con il Comune di Terracina\, anche per l’estate 2023 promuove e organizza\, come avviene ormai dal 1995\, l’iniziativa denominata “Conoscere i Beni Culturali”. \n\n\n\nIl programma delle visite culturali si svolge dall’inizio di luglio all’inizio di settembre ed è finalizzato alla migliore conoscenza del patrimonio archeologico e storico-artistico cittadino attraverso la partecipazione ad appositi itinerari e percorsi monumentali. \n\n\n\nAnche quest’anno il programma è stato ampliato con due interessanti iniziative: “Terracina di Notte”\, per la quale è stata prevista una serie di visite culturali notturne con nuovi e diversi percorsi monumentali\, e “I Venerdì del teatro romano”\, per la conoscenza delle strutture del monumento romano portate in luce dagli scavi della Soprintendenza. \n\n\n\nLa prenotazione è obbligatoria e dovrà essere effettuata solamente telefonando al n. 3383485765 (in caso di eventuale mancata risposta\, la nostra responsabile provvederà a ricontattare al più presto l’interessato). \n\n\n\nPer le visite è previsto un contributo di € 3.00 a persona (esclusi i bambini fino a 10 anni) come forma di autofinanziamento per l’Associazione. I gruppi di visita potranno essere composti al massimo da 25 persone. \n\n\n\nPer informazioni: tel. 0773.701443   e-mail: win1196@libero.it
URL:http://www.archeoclubitalia.org/event/il-centro-storico-alto-la-citta-medievale-la-chiesa-cattedrale-il-suo-episcopio-conoscere-i-beni-culturali-a-terracina/
ATTACH;FMTTYPE=image/jpeg:http://www.archeoclubitalia.org/wp-content/uploads/2023/07/agosto-terracina.jpg
END:VEVENT
END:VCALENDAR