BEGIN:VCALENDAR
VERSION:2.0
PRODID:-//Archeoclub d&#039;Italia - ECPv5.14.0.1//NONSGML v1.0//EN
CALSCALE:GREGORIAN
METHOD:PUBLISH
X-WR-CALNAME:Archeoclub d&#039;Italia
X-ORIGINAL-URL:http://www.archeoclubitalia.org
X-WR-CALDESC:Eventi per Archeoclub d&#039;Italia
REFRESH-INTERVAL;VALUE=DURATION:PT1H
X-Robots-Tag:noindex
X-PUBLISHED-TTL:PT1H
BEGIN:VTIMEZONE
TZID:Europe/Rome
BEGIN:DAYLIGHT
TZOFFSETFROM:+0100
TZOFFSETTO:+0200
TZNAME:CEST
DTSTART:20230326T010000
END:DAYLIGHT
BEGIN:STANDARD
TZOFFSETFROM:+0200
TZOFFSETTO:+0100
TZNAME:CET
DTSTART:20231029T010000
END:STANDARD
END:VTIMEZONE
BEGIN:VEVENT
DTSTART;TZID=Europe/Rome:20230730T000000
DTEND;TZID=Europe/Rome:20230803T235959
DTSTAMP:20260419T152207
CREATED:20230605T185303Z
LAST-MODIFIED:20230605T185652Z
UID:9529-1690675200-1691107199@www.archeoclubitalia.org
SUMMARY:La Cura dei Luoghi\, 33° Seminario e Premio di Architettura e Cultura Urbana
DESCRIPTION:SCARICA LA LOCANDINA\n\n\n\n\n\n\nIl SACU – Camerino 2023\, con la collaborazione della Sede locale di Archeoclub d’Italia\, si terrà in presenza presso l’Auditorium dell’Università di Camerino dal 30 luglio al 3 agosto e avrà per temaLA CURA DEI LUOGHI. Il bello … il buono il brutto e il cattivo dell’Architettura.Gli iscritti al SACU possono partecipare al “Premio” presentando un loro progetto\, o opera eseguiti dal 2018 in poi.Il bando è pubblicato sul web: culturaurbana.unicam.it
URL:http://www.archeoclubitalia.org/event/la-cura-dei-luoghi-33-seminario-si-architettura-e-cultura-urbana/
ATTACH;FMTTYPE=image/jpeg:http://www.archeoclubitalia.org/wp-content/uploads/2023/06/cura-dei-luoghi.jpg
END:VEVENT
END:VCALENDAR