BEGIN:VCALENDAR
VERSION:2.0
PRODID:-//Archeoclub d&#039;Italia - ECPv5.14.0.1//NONSGML v1.0//EN
CALSCALE:GREGORIAN
METHOD:PUBLISH
X-WR-CALNAME:Archeoclub d&#039;Italia
X-ORIGINAL-URL:http://www.archeoclubitalia.org
X-WR-CALDESC:Eventi per Archeoclub d&#039;Italia
REFRESH-INTERVAL;VALUE=DURATION:PT1H
X-Robots-Tag:noindex
X-PUBLISHED-TTL:PT1H
BEGIN:VTIMEZONE
TZID:Europe/Rome
BEGIN:DAYLIGHT
TZOFFSETFROM:+0100
TZOFFSETTO:+0200
TZNAME:CEST
DTSTART:20230326T010000
END:DAYLIGHT
BEGIN:STANDARD
TZOFFSETFROM:+0200
TZOFFSETTO:+0100
TZNAME:CET
DTSTART:20231029T010000
END:STANDARD
END:VTIMEZONE
BEGIN:VEVENT
DTSTART;TZID=Europe/Rome:20230720T080000
DTEND;TZID=Europe/Rome:20230723T170000
DTSTAMP:20260419T152200
CREATED:20230717T185314Z
LAST-MODIFIED:20230717T185723Z
UID:9937-1689840000-1690131600@www.archeoclubitalia.org
SUMMARY:"Un'Estate da Archeologo" Campo di Archeologia e Natura per Ragazzi
DESCRIPTION:SCARICA LA LOCANDINA
URL:http://www.archeoclubitalia.org/event/unestate-da-archeologo-campo-di-archeologia-e-natura-per-ragazzi/
ATTACH;FMTTYPE=image/jpeg:http://www.archeoclubitalia.org/wp-content/uploads/2023/07/campi.jpg
END:VEVENT
BEGIN:VEVENT
DTSTART;TZID=Europe/Rome:20230722T180000
DTEND;TZID=Europe/Rome:20230722T180000
DTSTAMP:20260419T152200
CREATED:20230621T184156Z
LAST-MODIFIED:20230621T184158Z
UID:9737-1690048800-1690048800@www.archeoclubitalia.org
SUMMARY:Hannibal Race - 10 km Corsa ad Ostacoli sul Terreno della Battaglia di Canne
DESCRIPTION:SCARICA LA LOCANDINA
URL:http://www.archeoclubitalia.org/event/hannibal-race-10-km-corsa-ad-ostacoli-sul-terreno-della-battaglia-di-canne/
ATTACH;FMTTYPE=image/jpeg:http://www.archeoclubitalia.org/wp-content/uploads/2023/06/annibale.jpg
END:VEVENT
BEGIN:VEVENT
DTSTART;TZID=Europe/Rome:20230722T184500
DTEND;TZID=Europe/Rome:20230722T184500
DTSTAMP:20260419T152200
CREATED:20230630T202613Z
LAST-MODIFIED:20230630T202840Z
UID:9823-1690051500-1690051500@www.archeoclubitalia.org
SUMMARY:Conoscere i Beni Culturali a Terracina
DESCRIPTION:SCARICA LA LOCANDINA\n\n\n\n\n\n\nLa Sede di Terracina dell’Archeoclub d’Italia\, in collaborazione con il Comune di Terracina\, anche per l’estate 2023 promuove e organizza\, come avviene ormai dal 1995\, l’iniziativa denominata “Conoscere i Beni Culturali”.\nIl programma delle visite culturali si svolge dall’inizio di luglio all’inizio di settembre ed è finalizzato alla migliore conoscenza del patrimonio archeologico e storico-artistico cittadino attraverso la partecipazione ad appositi itinerari e percorsi monumentali.\nAnche quest’anno il programma è stato ampliato con due interessanti iniziative: “Terracina di Notte”\, per la quale è stata prevista una serie di visite culturali notturne con nuovi e diversi percorsi monumentali\, e “I Venerdì del teatro romano”\, per la conoscenza delle strutture del monumento romano portate in luce dagli scavi della Soprintendenza.\nLa prenotazione è obbligatoria e dovrà essere effettuata solamente telefonando al n. 3383485765 (in caso di eventuale mancata risposta\, la nostra responsabile provvederà a ricontattare al più presto l’interessato).\nPer le visite è previsto un contributo di € 3.00 a persona (esclusi i bambini fino a 10 anni) come forma di autofinanziamento per l’Associazione. I gruppi di visita potranno essere composti al massimo da 25 persone. \nPer informazioni: tel. 0773.701443   e-mail: win1196@libero.it
URL:http://www.archeoclubitalia.org/event/conoscere-i-beni-culturali-a-terracina-5/
ATTACH;FMTTYPE=image/jpeg:http://www.archeoclubitalia.org/wp-content/uploads/2023/06/Conoscere-i-Beni-Culturali.jpg
END:VEVENT
BEGIN:VEVENT
DTSTART;TZID=Europe/Rome:20230722T200000
DTEND;TZID=Europe/Rome:20230723T235900
DTSTAMP:20260419T152200
CREATED:20230720T182430Z
LAST-MODIFIED:20230720T182611Z
UID:9962-1690056000-1690156740@www.archeoclubitalia.org
SUMMARY:"Curtugghiannu" Teatro Popolare Itinerante a Caltagirone
DESCRIPTION:SCARICA LA LOCANDINA
URL:http://www.archeoclubitalia.org/event/curtugghiannu-teatro-popolare-itinerante-a-caltagirone/
ATTACH;FMTTYPE=image/jpeg:http://www.archeoclubitalia.org/wp-content/uploads/2023/07/caltagirone.jpg
END:VEVENT
END:VCALENDAR