BEGIN:VCALENDAR
VERSION:2.0
PRODID:-//Archeoclub d&#039;Italia - ECPv5.14.0.1//NONSGML v1.0//EN
CALSCALE:GREGORIAN
METHOD:PUBLISH
X-WR-CALNAME:Archeoclub d&#039;Italia
X-ORIGINAL-URL:http://www.archeoclubitalia.org
X-WR-CALDESC:Eventi per Archeoclub d&#039;Italia
REFRESH-INTERVAL;VALUE=DURATION:PT1H
X-Robots-Tag:noindex
X-PUBLISHED-TTL:PT1H
BEGIN:VTIMEZONE
TZID:Europe/Rome
BEGIN:DAYLIGHT
TZOFFSETFROM:+0100
TZOFFSETTO:+0200
TZNAME:CEST
DTSTART:20230326T010000
END:DAYLIGHT
BEGIN:STANDARD
TZOFFSETFROM:+0200
TZOFFSETTO:+0100
TZNAME:CET
DTSTART:20231029T010000
END:STANDARD
END:VTIMEZONE
BEGIN:VEVENT
DTSTART;TZID=Europe/Rome:20230716T184500
DTEND;TZID=Europe/Rome:20230716T184500
DTSTAMP:20260419T152152
CREATED:20230630T201724Z
LAST-MODIFIED:20230630T202101Z
UID:9821-1689533100-1689533100@www.archeoclubitalia.org
SUMMARY:Conoscere i Beni Culturali a Terracina
DESCRIPTION:SCARICA LA LOCANDINA\n\n\n\n\n\n\nLa Sede di Terracina dell’Archeoclub d’Italia\, in collaborazione con il Comune di Terracina\, anche per l’estate 2023 promuove e organizza\, come avviene ormai dal 1995\, l’iniziativa denominata “Conoscere i Beni Culturali”.\nIl programma delle visite culturali si svolge dall’inizio di luglio all’inizio di settembre ed è finalizzato alla migliore conoscenza del patrimonio archeologico e storico-artistico cittadino attraverso la partecipazione ad appositi itinerari e percorsi monumentali.\nAnche quest’anno il programma è stato ampliato con due interessanti iniziative: “Terracina di Notte”\, per la quale è stata prevista una serie di visite culturali notturne con nuovi e diversi percorsi monumentali\, e “I Venerdì del teatro romano”\, per la conoscenza delle strutture del monumento romano portate in luce dagli scavi della Soprintendenza.\nLa prenotazione è obbligatoria e dovrà essere effettuata solamente telefonando al n. 3383485765 (in caso di eventuale mancata risposta\, la nostra responsabile provvederà a ricontattare al più presto l’interessato).\nPer le visite è previsto un contributo di € 3.00 a persona (esclusi i bambini fino a 10 anni) come forma di autofinanziamento per l’Associazione. I gruppi di visita potranno essere composti al massimo da 25 persone. \nPer informazioni: tel. 0773.701443   e-mail: win1196@libero.it
URL:http://www.archeoclubitalia.org/event/conoscere-i-beni-culturali-a-terracina-4/
ATTACH;FMTTYPE=image/jpeg:http://www.archeoclubitalia.org/wp-content/uploads/2023/06/Conoscere-i-Beni-Culturali.jpg
END:VEVENT
BEGIN:VEVENT
DTSTART;TZID=Europe/Rome:20230716T203000
DTEND;TZID=Europe/Rome:20230716T203000
DTSTAMP:20260419T152152
CREATED:20230510T200627Z
LAST-MODIFIED:20230510T201117Z
UID:9088-1689539400-1689539400@www.archeoclubitalia.org
SUMMARY:Note tra le Navate\, Brani Musicali dal XV al XIX Secolo
DESCRIPTION:SCARICA LA LOCANDINA\n\n\n\n\n\n\nMassa Lubrense – “Note tra le navate”: strumenti antichi per narrare la bellezza di un territorio e la ricchezza delle sue chiese. \n\n\n\nDa maggio a settembre 2023\, cinque concerti di musica antica risuoneranno incastonati in alcune delle più belle chiese del territorio. Il comune simbolo della Terra delle Sirene sarà teatro dell’interessante progetto “Note tra le navate”\, un’iniziativa musicale e di conoscenza del patrimonio artistico del territorio promossa dall’Associazione culturale “Artetiempo”\, dalla sede lubrense dell’Archeoclub d’Italia e realizzata grazie al contributo dell’Amministrazione Comunale di Massa Lubrense\, che l’ha inserita nel cartellone della rassegna “Omaggio alla bellezza” 2023\, promossa dall’Assessorato al Turismo\, nella persona del vicesindaco\, avv. Giovanna Staiano.\n«Si tratta di una serie di appuntamenti – ha detto il presidente di Artetiempo\, M° Teresa Coccurullo – che intende accompagnare il pubblico in un ideale viaggio nel tempo\, guidati dalla Musica\, attraverso un percorso sonoro che parte dal ‘400 fino a giungere al 19° secolo». Il programma musicale\, infatti\, prevede una selezione cronologica di musiche attinte ai principali generi di ogni periodo storico\, attentamente selezionate dal repertorio vocale e strumentale maggiormente rappresentativo e abilmente orchestrate per l’ensemble\, dal M° Antonio Saturno.\nLe esecuzioni musicali sono affidate a Teresa Coccurullo al flauto traverso\, Antonino Persico e Salvatore Cangiano ai clarinetti in si b\, Luisa Esposito Gugg alla tastiera e Giuseppe Amura alla voce e alle percussioni etniche. Ad intrecciarsi con gli interpreti storici del gruppo New Wind Ensemble (nucleo musicale dell’Associazione Artetiempo)\, sarà interessante ascoltare la musicalità rinascimentale e barocca espressa dalla voce del tenore Tommaso Castello\, e dai musicisti Antonio Saturno e Salvatore Esposito Ferraioli\, rispettivamente impegnati con chitarra barocca e tiorba\, due strumenti antichi dal grande fascino e da un suono particolare che immediatamente riconduce alle atmosfere dei secoli passati.
URL:http://www.archeoclubitalia.org/event/note-tra-le-navate-brani-musicali-dal-xv-al-xix-secolo-3/
ATTACH;FMTTYPE=image/jpeg:http://www.archeoclubitalia.org/wp-content/uploads/2023/05/note-navate.jpg
END:VEVENT
END:VCALENDAR