BEGIN:VCALENDAR
VERSION:2.0
PRODID:-//Archeoclub d&#039;Italia - ECPv5.14.0.1//NONSGML v1.0//EN
CALSCALE:GREGORIAN
METHOD:PUBLISH
X-WR-CALNAME:Archeoclub d&#039;Italia
X-ORIGINAL-URL:http://www.archeoclubitalia.org
X-WR-CALDESC:Eventi per Archeoclub d&#039;Italia
REFRESH-INTERVAL;VALUE=DURATION:PT1H
X-Robots-Tag:noindex
X-PUBLISHED-TTL:PT1H
BEGIN:VTIMEZONE
TZID:Europe/Rome
BEGIN:DAYLIGHT
TZOFFSETFROM:+0100
TZOFFSETTO:+0200
TZNAME:CEST
DTSTART:20230326T010000
END:DAYLIGHT
BEGIN:STANDARD
TZOFFSETFROM:+0200
TZOFFSETTO:+0100
TZNAME:CET
DTSTART:20231029T010000
END:STANDARD
END:VTIMEZONE
BEGIN:VEVENT
DTSTART;TZID=Europe/Rome:20230513T000000
DTEND;TZID=Europe/Rome:20230621T235959
DTSTAMP:20260419T152203
CREATED:20230620T153534Z
LAST-MODIFIED:20230620T153613Z
UID:9728-1683936000-1687391999@www.archeoclubitalia.org
SUMMARY:Il Cammino dei Vulcani
DESCRIPTION:SCARICA LA LOCANDINA
URL:http://www.archeoclubitalia.org/event/il-cammino-dei-vulcani/
ATTACH;FMTTYPE=image/jpeg:http://www.archeoclubitalia.org/wp-content/uploads/2023/06/vulcani.jpg
END:VEVENT
BEGIN:VEVENT
DTSTART;TZID=Europe/Rome:20230616T000000
DTEND;TZID=Europe/Rome:20230618T235959
DTSTAMP:20260419T152203
CREATED:20230519T192009Z
LAST-MODIFIED:20230519T192011Z
UID:9293-1686873600-1687132799@www.archeoclubitalia.org
SUMMARY:Giornate Europee Archeologia 2023
DESCRIPTION:SCARICA LA LOCANDINA
URL:http://www.archeoclubitalia.org/event/giornate-europee-archeologia-2023/
ATTACH;FMTTYPE=image/jpeg:http://www.archeoclubitalia.org/wp-content/uploads/2023/05/gea.jpg
END:VEVENT
BEGIN:VEVENT
DTSTART;TZID=Europe/Rome:20230618T110000
DTEND;TZID=Europe/Rome:20230618T110000
DTSTAMP:20260419T152203
CREATED:20230614T185123Z
LAST-MODIFIED:20230614T185258Z
UID:9649-1687086000-1687086000@www.archeoclubitalia.org
SUMMARY:Buona la Prima\, Ecopasseggiata tra i luoghi di origine di Neapolis
DESCRIPTION:SCARICA LA LOCANDINA
URL:http://www.archeoclubitalia.org/event/buona-la-prima-ecopasseggiata-tra-i-luoghi-di-origine-di-neapolis/
ATTACH;FMTTYPE=image/jpeg:http://www.archeoclubitalia.org/wp-content/uploads/2023/06/buona-la-prima.jpg
END:VEVENT
BEGIN:VEVENT
DTSTART;TZID=Europe/Rome:20230618T180000
DTEND;TZID=Europe/Rome:20230618T180000
DTSTAMP:20260419T152203
CREATED:20230617T081045Z
LAST-MODIFIED:20230617T081047Z
UID:9705-1687111200-1687111200@www.archeoclubitalia.org
SUMMARY:"I Siciliani: gli Ariani siamo Noi" di Alfredo Rizza
DESCRIPTION:SCARICA LA LOCANDINA
URL:http://www.archeoclubitalia.org/event/i-siciliani-gli-ariani-siamo-noi-di-alfredo-rizza/
ATTACH;FMTTYPE=image/jpeg:http://www.archeoclubitalia.org/wp-content/uploads/2023/06/gravinaa.jpg
END:VEVENT
BEGIN:VEVENT
DTSTART;TZID=Europe/Rome:20230618T193000
DTEND;TZID=Europe/Rome:20230618T193000
DTSTAMP:20260419T152203
CREATED:20230510T200415Z
LAST-MODIFIED:20230510T200528Z
UID:9084-1687116600-1687116600@www.archeoclubitalia.org
SUMMARY:Note tra le Navate\, Brani Musicali dal XV al XIX Secolo
DESCRIPTION:SCARICA LA LOCANDINA\n\n\n\n\n\n\nMassa Lubrense – “Note tra le navate”: strumenti antichi per narrare la bellezza di un territorio e la ricchezza delle sue chiese. \n\n\n\nDa maggio a settembre 2023\, cinque concerti di musica antica risuoneranno incastonati in alcune delle più belle chiese del territorio. Il comune simbolo della Terra delle Sirene sarà teatro dell’interessante progetto “Note tra le navate”\, un’iniziativa musicale e di conoscenza del patrimonio artistico del territorio promossa dall’Associazione culturale “Artetiempo”\, dalla sede lubrense dell’Archeoclub d’Italia e realizzata grazie al contributo dell’Amministrazione Comunale di Massa Lubrense\, che l’ha inserita nel cartellone della rassegna “Omaggio alla bellezza” 2023\, promossa dall’Assessorato al Turismo\, nella persona del vicesindaco\, avv. Giovanna Staiano.\n«Si tratta di una serie di appuntamenti – ha detto il presidente di Artetiempo\, M° Teresa Coccurullo – che intende accompagnare il pubblico in un ideale viaggio nel tempo\, guidati dalla Musica\, attraverso un percorso sonoro che parte dal ‘400 fino a giungere al 19° secolo». Il programma musicale\, infatti\, prevede una selezione cronologica di musiche attinte ai principali generi di ogni periodo storico\, attentamente selezionate dal repertorio vocale e strumentale maggiormente rappresentativo e abilmente orchestrate per l’ensemble\, dal M° Antonio Saturno.\nLe esecuzioni musicali sono affidate a Teresa Coccurullo al flauto traverso\, Antonino Persico e Salvatore Cangiano ai clarinetti in si b\, Luisa Esposito Gugg alla tastiera e Giuseppe Amura alla voce e alle percussioni etniche. Ad intrecciarsi con gli interpreti storici del gruppo New Wind Ensemble (nucleo musicale dell’Associazione Artetiempo)\, sarà interessante ascoltare la musicalità rinascimentale e barocca espressa dalla voce del tenore Tommaso Castello\, e dai musicisti Antonio Saturno e Salvatore Esposito Ferraioli\, rispettivamente impegnati con chitarra barocca e tiorba\, due strumenti antichi dal grande fascino e da un suono particolare che immediatamente riconduce alle atmosfere dei secoli passati.
URL:http://www.archeoclubitalia.org/event/note-tra-le-navate-brani-musicali-dal-xv-al-xix-secolo-2/
ATTACH;FMTTYPE=image/jpeg:http://www.archeoclubitalia.org/wp-content/uploads/2023/05/note-navate.jpg
END:VEVENT
END:VCALENDAR