BEGIN:VCALENDAR
VERSION:2.0
PRODID:-//Archeoclub d&#039;Italia - ECPv5.14.0.1//NONSGML v1.0//EN
CALSCALE:GREGORIAN
METHOD:PUBLISH
X-WR-CALNAME:Archeoclub d&#039;Italia
X-ORIGINAL-URL:http://www.archeoclubitalia.org
X-WR-CALDESC:Eventi per Archeoclub d&#039;Italia
REFRESH-INTERVAL;VALUE=DURATION:PT1H
X-Robots-Tag:noindex
X-PUBLISHED-TTL:PT1H
BEGIN:VTIMEZONE
TZID:Europe/Rome
BEGIN:DAYLIGHT
TZOFFSETFROM:+0100
TZOFFSETTO:+0200
TZNAME:CEST
DTSTART:20230326T010000
END:DAYLIGHT
BEGIN:STANDARD
TZOFFSETFROM:+0200
TZOFFSETTO:+0100
TZNAME:CET
DTSTART:20231029T010000
END:STANDARD
END:VTIMEZONE
BEGIN:VEVENT
DTSTART;TZID=Europe/Rome:20230422T090000
DTEND;TZID=Europe/Rome:20230422T090000
DTSTAMP:20260421T151416
CREATED:20230419T194850Z
LAST-MODIFIED:20230419T195057Z
UID:8544-1682154000-1682154000@www.archeoclubitalia.org
SUMMARY:Open Day - Boschi di Quisisana a Castellammare di Stabia
DESCRIPTION:SCARICA LA LOCANDINA
URL:http://www.archeoclubitalia.org/event/open-day-boschi-di-quisisana-a-castellammare-di-stabia/
ATTACH;FMTTYPE=image/jpeg:http://www.archeoclubitalia.org/wp-content/uploads/2023/04/stabia.jpg
END:VEVENT
BEGIN:VEVENT
DTSTART;TZID=Europe/Rome:20230422T173000
DTEND;TZID=Europe/Rome:20230422T173000
DTSTAMP:20260421T151416
CREATED:20230419T202504Z
LAST-MODIFIED:20230419T202655Z
UID:8574-1682184600-1682184600@www.archeoclubitalia.org
SUMMARY:Presentazione Libro "Sentieri di Luna\, una Bio dell'Amore" di D. Palumbo
DESCRIPTION:SCARICA LA LOCANDINA
URL:http://www.archeoclubitalia.org/event/presentazione-libro-sentieri-di-luna-una-bio-dellamore-di-d-palumbo/
ATTACH;FMTTYPE=image/jpeg:http://www.archeoclubitalia.org/wp-content/uploads/2023/04/avell.jpg
END:VEVENT
END:VCALENDAR