BEGIN:VCALENDAR
VERSION:2.0
PRODID:-//Archeoclub d&#039;Italia - ECPv5.14.0.1//NONSGML v1.0//EN
CALSCALE:GREGORIAN
METHOD:PUBLISH
X-WR-CALNAME:Archeoclub d&#039;Italia
X-ORIGINAL-URL:http://www.archeoclubitalia.org
X-WR-CALDESC:Eventi per Archeoclub d&#039;Italia
REFRESH-INTERVAL;VALUE=DURATION:PT1H
X-Robots-Tag:noindex
X-PUBLISHED-TTL:PT1H
BEGIN:VTIMEZONE
TZID:Europe/Rome
BEGIN:DAYLIGHT
TZOFFSETFROM:+0100
TZOFFSETTO:+0200
TZNAME:CEST
DTSTART:20220327T010000
END:DAYLIGHT
BEGIN:STANDARD
TZOFFSETFROM:+0200
TZOFFSETTO:+0100
TZNAME:CET
DTSTART:20221030T010000
END:STANDARD
END:VTIMEZONE
BEGIN:VEVENT
DTSTART;TZID=Europe/Rome:20220731T000000
DTEND;TZID=Europe/Rome:20220731T235959
DTSTAMP:20260422T155742
CREATED:20220731T173705Z
LAST-MODIFIED:20220731T211908Z
UID:4940-1659225600-1659311999@www.archeoclubitalia.org
SUMMARY:XXXII Seminario Internazionale "La Città dei Desideri"
DESCRIPTION:SCARICA LA LOCANDINA\n\n\n\n\n\n\nComincia oggi il “XXXII seminario internazionale premio di architettura e cultura urbana di Camerino\, la città dei desideri”. Archeoclub d’Italia è presente con alcune ricerche coordinate dal Dipartimento nazionale di architettura e paesaggi. Partecipiamo ormai da tre anni con grande soddisfazione da parte del presidente nazionale Rosario Santanastasio e del direttore del Dipartimento Francesco Finocchiaro.
URL:http://www.archeoclubitalia.org/event/xxxii-seminario-internazionale-la-citta-dei-desideri/
CATEGORIES:avvisi
ATTACH;FMTTYPE=image/jpeg:http://www.archeoclubitalia.org/wp-content/uploads/2022/07/CITTA-DEI-DESIDERI.jpg
END:VEVENT
END:VCALENDAR