BEGIN:VCALENDAR
VERSION:2.0
PRODID:-//Archeoclub d&#039;Italia - ECPv5.14.0.1//NONSGML v1.0//EN
CALSCALE:GREGORIAN
METHOD:PUBLISH
X-WR-CALNAME:Archeoclub d&#039;Italia
X-ORIGINAL-URL:http://www.archeoclubitalia.org
X-WR-CALDESC:Eventi per Archeoclub d&#039;Italia
REFRESH-INTERVAL;VALUE=DURATION:PT1H
X-Robots-Tag:noindex
X-PUBLISHED-TTL:PT1H
BEGIN:VTIMEZONE
TZID:Europe/Rome
BEGIN:DAYLIGHT
TZOFFSETFROM:+0100
TZOFFSETTO:+0200
TZNAME:CEST
DTSTART:20240331T010000
END:DAYLIGHT
BEGIN:STANDARD
TZOFFSETFROM:+0200
TZOFFSETTO:+0100
TZNAME:CET
DTSTART:20241027T010000
END:STANDARD
END:VTIMEZONE
BEGIN:VEVENT
DTSTART;TZID=Europe/Rome:20240824T211500
DTEND;TZID=Europe/Rome:20240824T211500
DTSTAMP:20260420T090140
CREATED:20240820T135023Z
LAST-MODIFIED:20240820T135633Z
UID:16435-1724534100-1724534100@www.archeoclubitalia.org
SUMMARY:XIX Edizione Terra d' Organi Antichi 2024 - Frederic Munoz
DESCRIPTION:SCARICA LA LOCANDINA
URL:http://www.archeoclubitalia.org/event/xix-edizione-terra-d-organi-antichi-2024-frederic-munoz/
ATTACH;FMTTYPE=image/png:http://www.archeoclubitalia.org/wp-content/uploads/2024/08/terra-organi.png
END:VEVENT
END:VCALENDAR