BEGIN:VCALENDAR
VERSION:2.0
PRODID:-//Archeoclub d&#039;Italia - ECPv5.14.0.1//NONSGML v1.0//EN
CALSCALE:GREGORIAN
METHOD:PUBLISH
X-WR-CALNAME:Archeoclub d&#039;Italia
X-ORIGINAL-URL:http://www.archeoclubitalia.org
X-WR-CALDESC:Eventi per Archeoclub d&#039;Italia
REFRESH-INTERVAL;VALUE=DURATION:PT1H
X-Robots-Tag:noindex
X-PUBLISHED-TTL:PT1H
BEGIN:VTIMEZONE
TZID:Europe/Rome
BEGIN:DAYLIGHT
TZOFFSETFROM:+0100
TZOFFSETTO:+0200
TZNAME:CEST
DTSTART:20260329T010000
END:DAYLIGHT
BEGIN:STANDARD
TZOFFSETFROM:+0200
TZOFFSETTO:+0100
TZNAME:CET
DTSTART:20261025T010000
END:STANDARD
END:VTIMEZONE
BEGIN:VEVENT
DTSTART;TZID=Europe/Rome:20260424T000000
DTEND;TZID=Europe/Rome:20260426T235959
DTSTAMP:20260423T061907
CREATED:20260422T224057Z
LAST-MODIFIED:20260422T224319Z
UID:23832-1776988800-1777247999@www.archeoclubitalia.org
SUMMARY:XII Sagra dell'Arancia Rossa di Sicilia IGP a Centuripe
DESCRIPTION:SCARICA LA LOCANDINA
URL:http://www.archeoclubitalia.org/event/xii-sagra-dellarancia-rossa-di-sicilia-igp-a-centuripe/
ATTACH;FMTTYPE=image/png:http://www.archeoclubitalia.org/wp-content/uploads/2026/04/sagra.png
END:VEVENT
END:VCALENDAR