BEGIN:VCALENDAR
VERSION:2.0
PRODID:-//Archeoclub d&#039;Italia - ECPv5.14.0.1//NONSGML v1.0//EN
CALSCALE:GREGORIAN
METHOD:PUBLISH
X-WR-CALNAME:Archeoclub d&#039;Italia
X-ORIGINAL-URL:http://www.archeoclubitalia.org
X-WR-CALDESC:Eventi per Archeoclub d&#039;Italia
REFRESH-INTERVAL;VALUE=DURATION:PT1H
X-Robots-Tag:noindex
X-PUBLISHED-TTL:PT1H
BEGIN:VTIMEZONE
TZID:Europe/Rome
BEGIN:DAYLIGHT
TZOFFSETFROM:+0100
TZOFFSETTO:+0200
TZNAME:CEST
DTSTART:20220327T010000
END:DAYLIGHT
BEGIN:STANDARD
TZOFFSETFROM:+0200
TZOFFSETTO:+0100
TZNAME:CET
DTSTART:20221030T010000
END:STANDARD
END:VTIMEZONE
BEGIN:VEVENT
DTSTART;TZID=Europe/Rome:20220507T183000
DTEND;TZID=Europe/Rome:20220507T200000
DTSTAMP:20260422T170100
CREATED:20220505T174609Z
LAST-MODIFIED:20220505T202923Z
UID:2639-1651948200-1651953600@www.archeoclubitalia.org
SUMMARY:To Establish the Bridgehead over the Sangro River! - Lanciano
DESCRIPTION:SCARICA LA LOCANDINA\n\n\n\n\n\n\n \n\n\n\n\n“To establish the Bridgehead over the Sangro River!” \, Lionel Wigram\, Swifty Howlett e il loro modo di intendere la guerra\nIl Presidente dell’Archeoclub di Lanciano Umberto Nasuti dialoga con Francesco Di Cintio (IGBC Accredited Battlefield Guide)
URL:http://www.archeoclubitalia.org/event/to-establish-the-bridgehead-over-the-sangro-river-lanciano/
LOCATION:Sala Convegni “Benito Lanci”\, Piazza del Plebiscito\, 55\, Lanciano\, Italia
ATTACH;FMTTYPE=image/jpeg:http://www.archeoclubitalia.org/wp-content/uploads/2022/05/LANC.jpg
END:VEVENT
END:VCALENDAR