BEGIN:VCALENDAR
VERSION:2.0
PRODID:-//Archeoclub d&#039;Italia - ECPv5.14.0.1//NONSGML v1.0//EN
CALSCALE:GREGORIAN
METHOD:PUBLISH
X-WR-CALNAME:Archeoclub d&#039;Italia
X-ORIGINAL-URL:http://www.archeoclubitalia.org
X-WR-CALDESC:Eventi per Archeoclub d&#039;Italia
REFRESH-INTERVAL;VALUE=DURATION:PT1H
X-Robots-Tag:noindex
X-PUBLISHED-TTL:PT1H
BEGIN:VTIMEZONE
TZID:Europe/Rome
BEGIN:DAYLIGHT
TZOFFSETFROM:+0100
TZOFFSETTO:+0200
TZNAME:CEST
DTSTART:20220327T010000
END:DAYLIGHT
BEGIN:STANDARD
TZOFFSETFROM:+0200
TZOFFSETTO:+0100
TZNAME:CET
DTSTART:20221030T010000
END:STANDARD
END:VTIMEZONE
BEGIN:VEVENT
DTSTART;TZID=Europe/Rome:20220803T221500
DTEND;TZID=Europe/Rome:20220901T221500
DTSTAMP:20260421T134134
CREATED:20220701T205317Z
LAST-MODIFIED:20220701T210535Z
UID:4585-1659564900-1662070500@www.archeoclubitalia.org
SUMMARY:Terracina di Notte - Agosto 2022
DESCRIPTION:SCARICA LA LOCANDINA\n\n\n\n\n\n\nVISITE CULTURALI ESTIVE DELL’ARCHEOCLUB DI TERRACINA \n\n\n\nTerracina\, 1° luglio 2022 \n\n\n\nLa Sede di Terracina dell’Archeoclub d’Italia\, in collaborazione con il Comune di Terracina\, anche per l’estate 2022 promuove e organizza\, come avviene ormai dal 1995\, l’iniziativa denominata “Conoscere i Beni Culturali”.  \n\n\n\nIl programma delle visite culturali previste si svolge dall’inizio di luglio all’inizio di settembre ed è finalizzato alla migliore conoscenza del patrimonio archeologico e storico-artistico cittadino attraverso la partecipazione ad appositi itinerari e percorsi monumentali.  \n\n\n\nAnche quest’anno il programma è stato ampliato con due interessanti iniziative: “Terracina di Notte”\, per la quale è stata prevista una serie di visite culturali notturne con nuovi e diversi percorsi monumentali\, e “I Venerdì del teatro romano”\, per la conoscenza delle strutture del monumento romano portate in luce dagli scavi della Soprintendenza.  \n\n\n\nLa prenotazione è obbligatoria e dovrà essere effettuata solamente telefonando al n. 3383485765 (in caso di eventuale mancata risposta\, la nostra responsabile provvederà a ricontattare al più presto l’interessato).  \n\n\n\nPer le visite è previsto un contributo di € 3.00 a persona (esclusi i bambini fino a 10 anni) come forma di autofinanziamento per l’Associazione. I gruppi di visita potranno essere composti al massimo da 25 persone. Le modalità di svolgimento esecutive delle visite saranno conformi alle vigenti disposizioni di contenimento della diffusione del Covid.  \n\n\n\nPer informazioni: tel. 0773.701443   e-mail: win1196@libero.it
URL:http://www.archeoclubitalia.org/event/terracina-di-notte-agosto-2022/
ATTACH;FMTTYPE=image/jpeg:http://www.archeoclubitalia.org/wp-content/uploads/2022/07/notte-terracina-2022.jpg
END:VEVENT
END:VCALENDAR