BEGIN:VCALENDAR
VERSION:2.0
PRODID:-//Archeoclub d&#039;Italia - ECPv5.14.0.1//NONSGML v1.0//EN
CALSCALE:GREGORIAN
METHOD:PUBLISH
X-WR-CALNAME:Archeoclub d&#039;Italia
X-ORIGINAL-URL:http://www.archeoclubitalia.org
X-WR-CALDESC:Eventi per Archeoclub d&#039;Italia
REFRESH-INTERVAL;VALUE=DURATION:PT1H
X-Robots-Tag:noindex
X-PUBLISHED-TTL:PT1H
BEGIN:VTIMEZONE
TZID:Europe/Rome
BEGIN:DAYLIGHT
TZOFFSETFROM:+0100
TZOFFSETTO:+0200
TZNAME:CEST
DTSTART:20250330T010000
END:DAYLIGHT
BEGIN:STANDARD
TZOFFSETFROM:+0200
TZOFFSETTO:+0100
TZNAME:CET
DTSTART:20251026T010000
END:STANDARD
END:VTIMEZONE
BEGIN:VEVENT
DTSTART;TZID=Europe/Rome:20250427T000000
DTEND;TZID=Europe/Rome:20250427T235959
DTSTAMP:20260423T160954
CREATED:20250328T214000Z
LAST-MODIFIED:20250425T213540Z
UID:19619-1745712000-1745798399@www.archeoclubitalia.org
SUMMARY:Primavera nei Borghi con Archeoclub d'Italia
DESCRIPTION:SCARICA LA LOCANDINA\n\n\n\n\n\n\nSedi Locali che partecipano:  \n\n\n\nAlife (CE) – Borghi del Territorio di Alifano \nAmaroni (CZ) – Borgo di Amaroni \nCaltagirone (CT) – Borgo di Granieri \nCava de Tirreni (SA) – Via Regia de La Cava \nComunanza (AP) – Centro Storico di Comunanza \nCorinaldo (AN) – Borgo di Corinaldo\nFerentino (FR) – Antica Ferentum \nFurci (CH) – Borgo Antico di Furci \nL’Aquila – Borgo di Calascio \nLauria (PZ) – Borgo di Trecchina \nMarca di Camerino (MC) – Borgo di Pieve Favera e Castello di Caldarola \nMatera – Borgo di Grottole \nMolfetta (BA) – Borgo marinaro di Molfetta \nMondolfo (PU) – Borgo di Mondolfo\nMontegiorgio (FM) – Borgo di Montegiorgio (26 Aprile) \nNardò (LE) – I Luoghi dell’Arneo \nPescara – Borgo di Spoltore \nPietrelcina (BN) – Borgo antico “Castiello” \nRipatransone (AP) – Torrioni di Balzo\nRutigliano (BA) – Passeggiata attraverso lo sviluppo del Centro Storico: dal Castello alle Mura.\nTermoli (CB) – Borgo Antico di Termoli\nTerracina (LT) – Borgo Hermada
URL:http://www.archeoclubitalia.org/event/primavera-nei-borghi-con-archeoclub-ditalia/
ATTACH;FMTTYPE=image/png:http://www.archeoclubitalia.org/wp-content/uploads/2025/03/primaver.png
END:VEVENT
END:VCALENDAR