BEGIN:VCALENDAR
VERSION:2.0
PRODID:-//Archeoclub d&#039;Italia - ECPv5.14.0.1//NONSGML v1.0//EN
CALSCALE:GREGORIAN
METHOD:PUBLISH
X-WR-CALNAME:Archeoclub d&#039;Italia
X-ORIGINAL-URL:http://www.archeoclubitalia.org
X-WR-CALDESC:Eventi per Archeoclub d&#039;Italia
REFRESH-INTERVAL;VALUE=DURATION:PT1H
X-Robots-Tag:noindex
X-PUBLISHED-TTL:PT1H
BEGIN:VTIMEZONE
TZID:Europe/Rome
BEGIN:DAYLIGHT
TZOFFSETFROM:+0100
TZOFFSETTO:+0200
TZNAME:CEST
DTSTART:20220327T010000
END:DAYLIGHT
BEGIN:STANDARD
TZOFFSETFROM:+0200
TZOFFSETTO:+0100
TZNAME:CET
DTSTART:20221030T010000
END:STANDARD
END:VTIMEZONE
BEGIN:VEVENT
DTSTART;TZID=Europe/Rome:20220514T200000
DTEND;TZID=Europe/Rome:20220514T230000
DTSTAMP:20260422T063803
CREATED:20220512T210112Z
LAST-MODIFIED:20220512T210552Z
UID:3175-1652558400-1652569200@www.archeoclubitalia.org
SUMMARY:Musica e Strumenti Musicali presso gli Antichi - Torre Annunziata
DESCRIPTION:SCARICA LA LOCANDINA\n\n\n\n\n\n\n\nNotte Europea dei Musei 2022\nMusica e Strumenti Musicali presso gli Antichi – Torre Annunziata\nL’Archeoclub di Torre Annunziata “Mario Prosperi” in collaborazione con il Parco Archeologico di Pompei organizza un itinerario guidato nella Villa di Poppea con intermezzi musicali a opera degli studenti Marialuisa Cannavale\, Diego De Vita e Giusi Gargiulo del Liceo Musicale di Torre Annunziata. \nCosto del biglietto è 1€  \nL’orario della visita è 20-23. Ultimo ingresso ore 22.  \nPrenotazione consigliata all’indirizzo mirella.azzurro@gmail.com
URL:http://www.archeoclubitalia.org/event/musica-e-strumenti-musicali-presso-gli-antichi-torre-annunziata/
LOCATION:Villa di Poppea\, Scavi di Oplontis\, Torre Annunziata
ATTACH;FMTTYPE=image/jpeg:http://www.archeoclubitalia.org/wp-content/uploads/2022/05/parco-pompei.jpg
END:VEVENT
END:VCALENDAR