BEGIN:VCALENDAR
VERSION:2.0
PRODID:-//Archeoclub d&#039;Italia - ECPv5.14.0.1//NONSGML v1.0//EN
CALSCALE:GREGORIAN
METHOD:PUBLISH
X-WR-CALNAME:Archeoclub d&#039;Italia
X-ORIGINAL-URL:http://www.archeoclubitalia.org
X-WR-CALDESC:Eventi per Archeoclub d&#039;Italia
REFRESH-INTERVAL;VALUE=DURATION:PT1H
X-Robots-Tag:noindex
X-PUBLISHED-TTL:PT1H
BEGIN:VTIMEZONE
TZID:Europe/Rome
BEGIN:DAYLIGHT
TZOFFSETFROM:+0100
TZOFFSETTO:+0200
TZNAME:CEST
DTSTART:20220327T010000
END:DAYLIGHT
BEGIN:STANDARD
TZOFFSETFROM:+0200
TZOFFSETTO:+0100
TZNAME:CET
DTSTART:20221030T010000
END:STANDARD
END:VTIMEZONE
BEGIN:VEVENT
DTSTART;TZID=Europe/Rome:20220730T211500
DTEND;TZID=Europe/Rome:20220730T211500
DTSTAMP:20260422T121817
CREATED:20220711T145926Z
LAST-MODIFIED:20220714T191955Z
UID:4727-1659215700-1659215700@www.archeoclubitalia.org
SUMMARY:Montegiorgio fra Medioevo e Rinascimento
DESCRIPTION:SCARICA LA LOCANDINA\n\n\n\n\n\n\n\n\n\n\n\n\nL’Archeoclub di Montegiorgio\, col patrocinio del Comune di Montegiorgio\, ha organizzato e promosso l’evento “Montegiorgio tra Medioevo e Rinascimento – un percorso nella pittura tra ‘300 e ‘500” nel quale il Prof. Alessandro Delpriori\, storico dell’arte e professore universitario\, passerà in rassegna il patrimonio artistico di Montegiorgio a cavallo delle due epoche. \nUn’occasione da non perdere per ri-scoprire opere d’arte importantissime per Montegiorgio\, per dare loro una collocazione storico-artistica e finalmente un’attribuzione.\nL’ingresso all’evento\, che si terrà sabato 20 luglio dalle ore 21:15 presso il Chiostro S.Agostino a Montegiorgio\, è gratuito ed aperto alla popolazione\, non servono prenotazioni.\n\nPer ogni informazione: Presid. Archeoclub Montegiorgio – Francesco Pasquali 340.3378724.
URL:http://www.archeoclubitalia.org/event/montegiorgio-fra-medioevo-e-rinascimento/
ATTACH;FMTTYPE=image/jpeg:http://www.archeoclubitalia.org/wp-content/uploads/2022/07/montegiorgio-copertina.jpg
END:VEVENT
END:VCALENDAR