BEGIN:VCALENDAR
VERSION:2.0
PRODID:-//Archeoclub d&#039;Italia - ECPv5.14.0.1//NONSGML v1.0//EN
CALSCALE:GREGORIAN
METHOD:PUBLISH
X-WR-CALNAME:Archeoclub d&#039;Italia
X-ORIGINAL-URL:http://www.archeoclubitalia.org
X-WR-CALDESC:Eventi per Archeoclub d&#039;Italia
REFRESH-INTERVAL;VALUE=DURATION:PT1H
X-Robots-Tag:noindex
X-PUBLISHED-TTL:PT1H
BEGIN:VTIMEZONE
TZID:Europe/Rome
BEGIN:DAYLIGHT
TZOFFSETFROM:+0100
TZOFFSETTO:+0200
TZNAME:CEST
DTSTART:20220327T010000
END:DAYLIGHT
BEGIN:STANDARD
TZOFFSETFROM:+0200
TZOFFSETTO:+0100
TZNAME:CET
DTSTART:20221030T010000
END:STANDARD
END:VTIMEZONE
BEGIN:VEVENT
DTSTART;TZID=Europe/Rome:20221125T180000
DTEND;TZID=Europe/Rome:20221125T180000
DTSTAMP:20260423T000217
CREATED:20221123T190105Z
LAST-MODIFIED:20221128T193139Z
UID:6490-1669399200-1669399200@www.archeoclubitalia.org
SUMMARY:Il Tardo Antico del Medio Evo - la Basilica Cristiana
DESCRIPTION:SCARICA LA LOCANDINA\n\n\n\n\n\n\nE’ possibile rivedere il seminario online attraverso il seguente link:\n\n\n\n\n\nPasscode d’accesso: 4Az&2&5w
URL:http://www.archeoclubitalia.org/event/il-tardo-antico-del-medio-evo-la-basilica-cristiana/
CATEGORIES:webinar
ATTACH;FMTTYPE=image/jpeg:http://www.archeoclubitalia.org/wp-content/uploads/2022/11/webinar.jpg
END:VEVENT
END:VCALENDAR