BEGIN:VCALENDAR
VERSION:2.0
PRODID:-//Archeoclub d&#039;Italia - ECPv5.14.0.1//NONSGML v1.0//EN
CALSCALE:GREGORIAN
METHOD:PUBLISH
X-WR-CALNAME:Archeoclub d&#039;Italia
X-ORIGINAL-URL:http://www.archeoclubitalia.org
X-WR-CALDESC:Eventi per Archeoclub d&#039;Italia
REFRESH-INTERVAL;VALUE=DURATION:PT1H
X-Robots-Tag:noindex
X-PUBLISHED-TTL:PT1H
BEGIN:VTIMEZONE
TZID:Europe/Rome
BEGIN:DAYLIGHT
TZOFFSETFROM:+0100
TZOFFSETTO:+0200
TZNAME:CEST
DTSTART:20220327T010000
END:DAYLIGHT
BEGIN:STANDARD
TZOFFSETFROM:+0200
TZOFFSETTO:+0100
TZNAME:CET
DTSTART:20221030T010000
END:STANDARD
END:VTIMEZONE
BEGIN:VEVENT
DTSTART;TZID=Europe/Rome:20220621T080000
DTEND;TZID=Europe/Rome:20220621T170000
DTSTAMP:20260422T122025
CREATED:20220627T192224Z
LAST-MODIFIED:20220627T192533Z
UID:4515-1655798400-1655830800@www.archeoclubitalia.org
SUMMARY:Il Solstizio Illumina Storie e Nuove Tecnologie
DESCRIPTION:Il 21 giugno scorso a S. Pietro  l’VIII edizione dell’evento\n\n\n\n \n\n\n\nCASALVECCHIO SICULO\, 21.06.2022\n\n\n\n“Comunicazione: atto d’amore per la cultura” è stato il motto dell’VIII edizione del Solstizio “Miti\, poeti\, sogni\, pittori e santi nella Valle d’Agrò – alla riscoperta del Genius Loci”\, organizzato presso l’Abbazia dei SS. Pietro e Paolo d’Agrò da Archeoclub Area Jonica Messina\, in collaborazione col Parco di Naxos\, con la Fondazione Architetti di Messina\, col comune e la parrocchia di Casalvecchio Siculo.  \n\n\n\nValorizzare i beni culturali per poi veicolarli attraverso metodologie di comunicazione nuove è stato il filo conduttore dei vari interventi\, moderati da Ketty Tamà (vice presidente di Archeoclub e coordinatrice del Solstizio) e Anna Carulli (presidente della Fondazione Architetti di Messina).  \n\n\n\nL’assessore Marcella Russo ha portato i saluti del Comune di Casalvecchio\, “per quello che per noi è un importante appuntamento ormai consolidato”\, mentre il saluto dell’Unione dei Comuni è stato affidato dal presidente Concetto Orlando\, presente ai lavori\, a Ninuccia Foti\, presidente dell’Osservatorio dei Beni Culturali. Don Alessandro Malaponte\, ha portato il saluto della parrocchia di Casalvecchio.  \n\n\n\nAd introdurre il dibattito è stato Filippo Brianni\, presidente di Archeoclub Area Ionica Messina\, il quale ha evidenziato l’impegno di Archeoclub per il 2022 nello studio e nelle strategie promozionali dei monasteri italo-greci del Val Demone. Brianni ha anche fatto notare come tutte le iniziative lanciate durante i Solstizi a S. Pietro si sono concretizzate: dai libri dell’abbazia riportati in forma digitale dall’Escorial\, al museo esperienziale in corso di realizzazione\, dai progetti di ricerca archeologica già avviati sul territorio alla riscoperta di elementi dimenticati\, come il Ponte romano sull’Agrò.  \n\n\n\nSubito dopo gli architetti Anna Carulli\, Ketty Tamà e Michele Palamara hanno presentato il progetto “Absidi Dimenticate”\, lanciato dalla Fondazione Architetti di Messina in collaborazione con Archeoclub d’Italia. Si tratta di un piano di individuazione e salvaguardia di chiese di pregio che rischiano il crollo. Tra queste\, c’è anche S. Sebastiano di Forza d’Agrò\, già oggetto di una segnalazione con richiesta di intervento urgente da parte di Archeoclub alla Soprintendenza ed al Comune.  \n\n\n\nPresentato anche il “mandato di Adelasia”\, il primo documento scritto su carta da un sovrano. Risale al 1109 ed è stato redatto\, in greco ed arabo\, da Adelasia\, madre di quel Ruggero II che meno di dieci anni dopo finanzierà l’abate Gerasimo per consentire la ricostruzione di S. Pietro e Casalvecchio. Tantissimi i dettagli linguistici\, storici e sociali illustrati da Ketty Tamà nel documento\, tra cui uno legato alla leggenda secondo cui la madre del futuro re finanziò il monastero di S. Filippo di Fragalà a Frazzanò per “ringraziare” S. Filippo d’Agira che salvò da una malattia da piccolo.  \n\n\n\nAntonella Siligato\, socia Archeoclub\, ha poi “ricucito” la parte storica del convegno con quella più prettamente divulgativa\, occupandosi di illustrare l’importanza delle nuove tecnologie per comunicare la cultura anche in funzione turistica. “Le guide tradizionali devono integrarsi con le nuove tecnologie perché possono essere complementari le une alle altre”\, ha detto illustrando il lavoro delle guide e le varie metodologie\, molto usate da Archeoclub\, come i QrCode.  \n\n\n\nUn intervento\, quello della Siligato\, apripista rispetto al “piatto forte” del Solstizio 2022\, cioè la presentazione dell’app ItaloGreekMonasteries realizzata dalla IB del Liceo Classico “Caminiti-Trimarchi” di S. Teresa di Riva\, in collaborazione con GrowApp e l’associazione culturale S. Nilo. Non (solo) uno esperimento didattico\, ma un completo e utilissimo strumento di conoscenza e divulgazione della storia\, caratteristiche e spunti di tutti i monasteri italo greci del Valdemone. Gli alunni\, guidati dalla prof. Francesca Gullotta\, hanno chiesto e ottenuto l’aiuto di esperti ed associazioni\, tra cui anche Archeoclub\, andando a visitare e fotografare i luoghi. La Gullotta\, dopo aver invitato i partecipanti a scaricare subito l’app per consentire di seguire meglio la presentazione\, ha lasciato il “campo” alle giovanissime e brillanti studentesse Giulia Franchi e Roberta Caspanello\, le quali hanno illustrato il progetto e le sue potenzialità.  “Vedere oggi una classe di una scuola che realizza uno strumento così valido come ItaloGreekMonasteries e due ragazze come Giulia e Roberta che lo presentano con questo entusiasmo e competenza è incoraggiante – ha detto Filippo Brianni – perché significa che i tanti semi che da anni lasciamo sul territorio\, sia noi che altri organismi che si occupano di cultura\, stanno germogliando copiosamente”.  \n\n\n\nArcheoclub ha poi dato appuntamento al 21 giugno 2023 per la nona edizione “che terremo sempre qui a S. Pietro\, alimentando questo contenitore di sogni che pian piano prendono forma reale”.
URL:http://www.archeoclubitalia.org/event/il-solstizio-illumina-storie-e-nuove-tecnologie/
ATTACH;FMTTYPE=image/jpeg:http://www.archeoclubitalia.org/wp-content/uploads/2022/06/Foto-ragazzi-a-Solstizio.jpg
END:VEVENT
END:VCALENDAR