BEGIN:VCALENDAR
VERSION:2.0
PRODID:-//Archeoclub d&#039;Italia - ECPv5.14.0.1//NONSGML v1.0//EN
CALSCALE:GREGORIAN
METHOD:PUBLISH
X-WR-CALNAME:Archeoclub d&#039;Italia
X-ORIGINAL-URL:http://www.archeoclubitalia.org
X-WR-CALDESC:Eventi per Archeoclub d&#039;Italia
REFRESH-INTERVAL;VALUE=DURATION:PT1H
X-Robots-Tag:noindex
X-PUBLISHED-TTL:PT1H
BEGIN:VTIMEZONE
TZID:Europe/Rome
BEGIN:DAYLIGHT
TZOFFSETFROM:+0100
TZOFFSETTO:+0200
TZNAME:CEST
DTSTART:20230326T010000
END:DAYLIGHT
BEGIN:STANDARD
TZOFFSETFROM:+0200
TZOFFSETTO:+0100
TZNAME:CET
DTSTART:20231029T010000
END:STANDARD
END:VTIMEZONE
BEGIN:VEVENT
DTSTART;TZID=Europe/Rome:20230514T160000
DTEND;TZID=Europe/Rome:20230514T160000
DTSTAMP:20260422T100123
CREATED:20230509T124703Z
LAST-MODIFIED:20230509T125042Z
UID:9008-1684080000-1684080000@www.archeoclubitalia.org
SUMMARY:Il Cammino dei Vulcani: dal Vesuvio all'Etna lungo la Strada Regia delle Calabrie
DESCRIPTION:SCARICA LA LOCANDINA\n\n\n\n\n\n\nIl 13 maggio comincerà il “Cammino dei Vulcani”organizzato dall’associazione culturale Repubblica Nomade in collaborazione con Archeoclub d’Italia\, un cammino dal Vesuvio all’Etna\, lungo la Strada Regia delle Calabrie\, la strada che Ferdinando IV volle far costruire nel 1778 per unire Napoli con Reggio Calabria.\n Il gruppo partirà alle 8.30 da Napoli\, presso il ponte della Maddalena\, dove ha inizio la strada regia\, e dopo brevi soste presso i principali luoghi di interesse storico e architettonico raggiungerà la Reggia di Portici e poi  Ercolano dove  visiterà il MAV\, villa Campolieto e villa Favorita.\nDomenica 14 il gruppo di Repubblica Nomade\, dopo la passeggiata da Ercolano al Gran Cono del Vesuvio\, giungerà nel pomeriggio a Torre Annunziata\, dove sarà accolto dalla sede locale di Archeoclub d’Italia \, dall’associazione Arev-Od (ospitalità diffusa per un turismo di qualità in Campania) e dalle  associazioni  Pro Loco\, Progetto Cripta\, Esseoesse\, Gruppo Storico oplontino\, e Centro Studi Storici Nicolò D’Alagno\, che organizzeranno per i “camminatori”\, provenienti da tutta Italia\, un ricco GiraOplonti\, da Nord a Sud della città\, lungo la strada regia delle Calabrie che a Torre Annunziata assume la denominazione di Corso Umberto I e Corso Vittorio Emanuele III.\n Ai partecipanti \, che hanno chiesto e ottenuto il patrocinio del Comune di Torre Annunziata\, e per la notte saranno ospitati presso l’Oratorio Salesiano Don Bosco\, saranno illustrati gli edifici\, i luoghi\, le chiese di interesse storico-artistico presenti lungo il percorso\, con soste presso villa Parnaso\, l’edificio detto “Stallone”(ora Torre Birraia)\, il Santuario dello Spirito Santo\, palazzo Criscuolo\, la Basilica della Madonna della Neve\, e saranno proposti suoni e sapori della nostra tradizione. Non mancherà la degustazione della cassata di Oplonti\, il dolce ispirato a un affresco della villa di Poppea\, realizzato con ricotta\, miele e frutta secca.\nChi volesse \, può unirsi al gruppo\, il cui arrivo a Torre Annunziata è previsto alle ore 16.00\, in Corso Umberto I presso l’Istituto  Apostole del Santo Rosario.
URL:http://www.archeoclubitalia.org/event/il-cammino-dei-vulcani-dal-vesuvio-alletna-lungo-la-strada-regia-delle-calabrie/
ATTACH;FMTTYPE=image/jpeg:http://www.archeoclubitalia.org/wp-content/uploads/2023/05/cammino.jpg
END:VEVENT
END:VCALENDAR