BEGIN:VCALENDAR
VERSION:2.0
PRODID:-//Archeoclub d&#039;Italia - ECPv5.14.0.1//NONSGML v1.0//EN
CALSCALE:GREGORIAN
METHOD:PUBLISH
X-WR-CALNAME:Archeoclub d&#039;Italia
X-ORIGINAL-URL:http://www.archeoclubitalia.org
X-WR-CALDESC:Eventi per Archeoclub d&#039;Italia
REFRESH-INTERVAL;VALUE=DURATION:PT1H
X-Robots-Tag:noindex
X-PUBLISHED-TTL:PT1H
BEGIN:VTIMEZONE
TZID:Europe/Rome
BEGIN:DAYLIGHT
TZOFFSETFROM:+0100
TZOFFSETTO:+0200
TZNAME:CEST
DTSTART:20240331T010000
END:DAYLIGHT
BEGIN:STANDARD
TZOFFSETFROM:+0200
TZOFFSETTO:+0100
TZNAME:CET
DTSTART:20241027T010000
END:STANDARD
END:VTIMEZONE
BEGIN:VEVENT
DTSTART;TZID=Europe/Rome:20240929T100000
DTEND;TZID=Europe/Rome:20240929T100000
DTSTAMP:20260422T194118
CREATED:20240925T192034Z
LAST-MODIFIED:20240925T192045Z
UID:16864-1727604000-1727604000@www.archeoclubitalia.org
SUMMARY:Convegno "Castelli e Dinamiche Insediative nell'Appennino"  - GEP 2024
DESCRIPTION:SCARICA LA LOCANDINA
URL:http://www.archeoclubitalia.org/event/convegno-castelli-e-dinamiche-insediative-nellappennino-gep-2024/
ATTACH;FMTTYPE=image/jpeg:http://www.archeoclubitalia.org/wp-content/uploads/2024/09/IMG-20240925-WA0006.jpg
END:VEVENT
END:VCALENDAR