BEGIN:VCALENDAR
VERSION:2.0
PRODID:-//Archeoclub d&#039;Italia - ECPv5.14.0.1//NONSGML v1.0//EN
CALSCALE:GREGORIAN
METHOD:PUBLISH
X-WR-CALNAME:Archeoclub d&#039;Italia
X-ORIGINAL-URL:http://www.archeoclubitalia.org
X-WR-CALDESC:Eventi per Archeoclub d&#039;Italia
REFRESH-INTERVAL;VALUE=DURATION:PT1H
X-Robots-Tag:noindex
X-PUBLISHED-TTL:PT1H
BEGIN:VTIMEZONE
TZID:Europe/Rome
BEGIN:DAYLIGHT
TZOFFSETFROM:+0100
TZOFFSETTO:+0200
TZNAME:CEST
DTSTART:20220327T010000
END:DAYLIGHT
BEGIN:STANDARD
TZOFFSETFROM:+0200
TZOFFSETTO:+0100
TZNAME:CET
DTSTART:20221030T010000
END:STANDARD
END:VTIMEZONE
BEGIN:VEVENT
DTSTART;TZID=Europe/Rome:20220728T070000
DTEND;TZID=Europe/Rome:20220728T070000
DTSTAMP:20260423T151042
CREATED:20220711T153805Z
LAST-MODIFIED:20220711T154339Z
UID:4746-1658991600-1658991600@www.archeoclubitalia.org
SUMMARY:Campo della Fiera\, Gita a Orvieto
DESCRIPTION:L’Archeoclub di Senigallia  propone una gita di un giorno ad Orvieto\, il giorno giovedì 28 luglioNel 2000 sono iniziati gli scavi che\, nella zona di Campo della Fiera\, l’area pianeggiante a ovest del pianoro di tufo su cui sorge Orvieto\, hanno consentito di riportare alla luce uno straordinario complesso di strutture che\, estendendosi per oltre cinque ettari\, testimonia l’esistenza di una grande area sacra frequentata per più di duemila anni: il santuario federale della lega etrusca ove periodicamente si riunivano i rappresentanti delle dodici maggiori città etrusche per prendere decisioni in comune. Oltre al tempio e alla via sacra sono stati individuati numerosi edifici che hanno restituito importanti manufatti ora conservati al museo nazionale.  \n\n\n\nProgramma della giornata: \n\n\n\nore 7:00 partenza da SenigalliaOrvieto visita della città con guida: Duomo\, Orvieto SotterraneaPranzo in ristorantePomeriggio: visite guidate al Museo archeologico nazionale e all’area archeologica in località Campo della Fiera di Orvieto. Accompagnerà alla visita del sito del santuario etrusco la direttrice degli scavi\, professoressa Simonetta Stopponi\, etruscologa già ordinaria all’Università di Perugia.\n\n\n\n \n\n\n\nChi fosse interessato a partecipare è pregato di contattare:Agenzia VITUR\, via San Martino 1- Senigallia Tel. 071/65310 \n\n\n\nIl presidentePaolo Negri
URL:http://www.archeoclubitalia.org/event/campo-della-fiera-a-orvieto/
ATTACH;FMTTYPE=image/jpeg:http://www.archeoclubitalia.org/wp-content/uploads/2022/06/Bandiera-Archeoclub-scaled-e1654685162259.jpg
END:VEVENT
END:VCALENDAR