BEGIN:VCALENDAR
VERSION:2.0
PRODID:-//Archeoclub d&#039;Italia - ECPv5.14.0.1//NONSGML v1.0//EN
CALSCALE:GREGORIAN
METHOD:PUBLISH
X-WR-CALNAME:Archeoclub d&#039;Italia
X-ORIGINAL-URL:http://www.archeoclubitalia.org
X-WR-CALDESC:Eventi per Archeoclub d&#039;Italia
REFRESH-INTERVAL;VALUE=DURATION:PT1H
X-Robots-Tag:noindex
X-PUBLISHED-TTL:PT1H
BEGIN:VTIMEZONE
TZID:Europe/Rome
BEGIN:DAYLIGHT
TZOFFSETFROM:+0100
TZOFFSETTO:+0200
TZNAME:CEST
DTSTART:20230326T010000
END:DAYLIGHT
BEGIN:STANDARD
TZOFFSETFROM:+0200
TZOFFSETTO:+0100
TZNAME:CET
DTSTART:20231029T010000
END:STANDARD
END:VTIMEZONE
BEGIN:VEVENT
DTSTART;TZID=Europe/Rome:20230226T093000
DTEND;TZID=Europe/Rome:20230226T093000
DTSTAMP:20260422T125252
CREATED:20230206T204920Z
LAST-MODIFIED:20230206T205041Z
UID:7575-1677403800-1677403800@www.archeoclubitalia.org
SUMMARY:Camminare d'Inverno - La Valle d'Arano\, Parco Regionale Sirente Velino
DESCRIPTION:SCARICA LA LOCANDINA\n\n\n\n\n\n\nLa Valle d’Arano – Parco Regionale Sirente VelinoNell’areale di Ovindoli\, lontani dalla confusione degli impianti sciistici\, andiamo alla scoperta della Val d’Arano\, la valle più incantevole dell’Altopiano delle Rocche.Con le ciaspole partiamo dal Rifugio Val d’Arano e\, seguendo il comodo e piacevole sentiero\, ci immergiamo in un vero e proprio paradiso per gli amanti della montagna. \n\n\n\nUna valle glaciale sospesa e incorniciata dal Monte Etra\, dal Monte Savina e dalla Serra di Celano\, che dona visuali inconsuete sulle vette e che alterna la distesa dell’altopiano a boschi. Qui\, in un ambiente selvaggio ed incontaminato\, dove il silenzio regna indisturbato\, godremo di ampi panorami.Escursione in caso di assenza di neveLuogo di Ritrovo: ore 9.30 – Ovindoli – Piazza centraleDifficoltà: Escursionismo in Ambiente InnevatoDislivello: 100 m massimoDurata: 3 h circaLunghezza totale: 6 km
URL:http://www.archeoclubitalia.org/event/camminare-dinverno-la-valle-darano-parco-regionale-sirente-velino/
ATTACH;FMTTYPE=image/png:http://www.archeoclubitalia.org/wp-content/uploads/2023/02/camminare.png
END:VEVENT
END:VCALENDAR