BEGIN:VCALENDAR
VERSION:2.0
PRODID:-//Archeoclub d&#039;Italia - ECPv5.14.0.1//NONSGML v1.0//EN
CALSCALE:GREGORIAN
METHOD:PUBLISH
X-WR-CALNAME:Archeoclub d&#039;Italia
X-ORIGINAL-URL:http://www.archeoclubitalia.org
X-WR-CALDESC:Eventi per Archeoclub d&#039;Italia
REFRESH-INTERVAL;VALUE=DURATION:PT1H
X-Robots-Tag:noindex
X-PUBLISHED-TTL:PT1H
BEGIN:VTIMEZONE
TZID:Europe/Rome
BEGIN:DAYLIGHT
TZOFFSETFROM:+0100
TZOFFSETTO:+0200
TZNAME:CEST
DTSTART:20220327T010000
END:DAYLIGHT
BEGIN:STANDARD
TZOFFSETFROM:+0200
TZOFFSETTO:+0100
TZNAME:CET
DTSTART:20221030T010000
END:STANDARD
END:VTIMEZONE
BEGIN:VEVENT
DTSTART;TZID=Europe/Rome:20220729T000000
DTEND;TZID=Europe/Rome:20220731T235959
DTSTAMP:20260422T121817
CREATED:20220729T131244Z
LAST-MODIFIED:20220729T131247Z
UID:4935-1659052800-1659311999@www.archeoclubitalia.org
SUMMARY:A Cena con i Bizantini a Crecchio
DESCRIPTION:SCARICA LA LOCANDINA
URL:http://www.archeoclubitalia.org/event/a-cena-con-i-bizantini-a-crecchio/
ATTACH;FMTTYPE=image/jpeg:http://www.archeoclubitalia.org/wp-content/uploads/2022/07/Invito-A-Cena-con-i-Bizantini-Crecchio_page-0001.jpg
END:VEVENT
END:VCALENDAR